BEGIN:VCALENDAR
VERSION:2.0
PRODID:-//Bowling Islands Andechs - ECPv6.15.20//NONSGML v1.0//EN
CALSCALE:GREGORIAN
METHOD:PUBLISH
X-WR-CALNAME:Bowling Islands Andechs
X-ORIGINAL-URL:https://bowling-islands.de
X-WR-CALDESC:Veranstaltungen für Bowling Islands Andechs
REFRESH-INTERVAL;VALUE=DURATION:PT1H
X-Robots-Tag:noindex
X-PUBLISHED-TTL:PT1H
BEGIN:VTIMEZONE
TZID:Europe/Berlin
BEGIN:DAYLIGHT
TZOFFSETFROM:+0100
TZOFFSETTO:+0200
TZNAME:CEST
DTSTART:20250330T010000
END:DAYLIGHT
BEGIN:STANDARD
TZOFFSETFROM:+0200
TZOFFSETTO:+0100
TZNAME:CET
DTSTART:20251026T010000
END:STANDARD
BEGIN:DAYLIGHT
TZOFFSETFROM:+0100
TZOFFSETTO:+0200
TZNAME:CEST
DTSTART:20260329T010000
END:DAYLIGHT
BEGIN:STANDARD
TZOFFSETFROM:+0200
TZOFFSETTO:+0100
TZNAME:CET
DTSTART:20261025T010000
END:STANDARD
BEGIN:DAYLIGHT
TZOFFSETFROM:+0100
TZOFFSETTO:+0200
TZNAME:CEST
DTSTART:20270328T010000
END:DAYLIGHT
BEGIN:STANDARD
TZOFFSETFROM:+0200
TZOFFSETTO:+0100
TZNAME:CET
DTSTART:20271031T010000
END:STANDARD
END:VTIMEZONE
BEGIN:VEVENT
DTSTART;TZID=Europe/Berlin:20260424T080000
DTEND;TZID=Europe/Berlin:20260424T170000
DTSTAMP:20260424T142336
CREATED:20250913T105533Z
LAST-MODIFIED:20260227T100348Z
UID:10002530-1777017600-1777050000@bowling-islands.de
SUMMARY:Bowling Islands Night
DESCRIPTION:Von 20 bis 24 Uhr ist Bowling Islands Night bei uns im Center. \nGenießt euren Bowling-Abend mit toller Musik und Unterhaltung. \nBei unseren kleinen Frage- und Bowling-Spielen könnt ihr mit etwas Glück die eine oder andere Shot-Runde gewinnen 🤩 \nBitte unbedingt Bahn reservieren!
URL:https://bowling-islands.de/event/bowling-islands-night-2/2026-04-24/
CATEGORIES:Wochenprogramm
ATTACH;FMTTYPE=image/jpeg:https://bowling-islands.de/wp-content/uploads/2025/06/night.jpg
END:VEVENT
BEGIN:VEVENT
DTSTART;VALUE=DATE:20260425
DTEND;VALUE=DATE:20260426
DTSTAMP:20260424T142336
CREATED:20250617T125243Z
LAST-MODIFIED:20260204T100241Z
UID:10001743-1777075200-1777161599@bowling-islands.de
SUMMARY:Bowling Islands Night
DESCRIPTION:Bowling Islands Night!Von 20 bis 24 Uhr ist Bowling Islands Night bei uns im Center. \nGenießt euren Bowling-Abend mit toller Musik und Unterhaltung. \nBei unseren kleinen Frage- und Bowling-Spielen könnt ihr mit etwas Glück die eine oder andere Shot-Runde gewinnen 🤩 \nBitte unbedingt Bahn reservieren!
URL:https://bowling-islands.de/event/bowling-islands-night/2026-04-25/
CATEGORIES:Wochenprogramm
ATTACH;FMTTYPE=image/jpeg:https://bowling-islands.de/wp-content/uploads/2025/06/night.jpg
END:VEVENT
BEGIN:VEVENT
DTSTART;VALUE=DATE:20260426
DTEND;VALUE=DATE:20260427
DTSTAMP:20260424T142336
CREATED:20250811T131627Z
LAST-MODIFIED:20260204T100221Z
UID:10001477-1777161600-1777247999@bowling-islands.de
SUMMARY:Sonntagsfrühstück
DESCRIPTION:SONNTAGSFRÜHSTÜCK VON 10 BIS 13 UHRJeden Sonntag können Sie bei Bowling Islands gemütlich frühstücken und natürlich auch bowlen.\nBitte teilen Sie uns bei Ihrer Buchung mit\, dass Sie frühstücken wollen. Danke! \nUnsere Frühstückskarte finden Sie auf S.11 unserer Speisen- und Getränkekarte. \nBowling Islands FrühstückKleine Wurst- und Käseauswahl\, Frischkäse\, Marmelade\, Honig\, Butter\, ein weich\ngekochtes Ei (Freilandhaltung)\, Brotkorb und ein Croissant\, Joghurt mit frischen Früchten\,\n0\,2 l Orangensaft* \nSweetyZwei Croissants mit Marmelade\, Honig und Nutella\, ein Muffin mit Schokostückchen\,\nJoghurt mit frischen Früchten\,\n0\,2 l Orangensaft* \nStrikeRührei mit knusprig gebratenem Bacon 2\,4\, Frischkäse\, Tomatenscheiben\, Butter\,\nBrotkorb\,\n0\,2 l Orangensaft* \nMakiUnser Kinderfrühstück ganz nach deinem Geschmack! \nWähle Deine Lieblingsvariante:\n1) Wurst und Käse\n2) Honig\, Nutella\, Marmelade \nDazu gibt es einen Brotkorb\, einen Muffin und 0\,2 l Orangensaft*
URL:https://bowling-islands.de/event/sonntagsfruehstueck-2/2026-04-26/
CATEGORIES:Wochenprogramm
ATTACH;FMTTYPE=image/jpeg:https://bowling-islands.de/wp-content/uploads/2025/07/fruehstueck.jpg
END:VEVENT
BEGIN:VEVENT
DTSTART;VALUE=DATE:20260427
DTEND;VALUE=DATE:20260428
DTSTAMP:20260424T142337
CREATED:20250811T130346Z
LAST-MODIFIED:20260204T100159Z
UID:10000687-1777248000-1777334399@bowling-islands.de
SUMMARY:Ruhetag
DESCRIPTION:Wir haben geschlossen!
URL:https://bowling-islands.de/event/ruhetag-2/2026-04-27/
CATEGORIES:Wochenprogramm
ATTACH;FMTTYPE=image/jpeg:https://bowling-islands.de/wp-content/uploads/2025/07/Fridolin.jpg
END:VEVENT
BEGIN:VEVENT
DTSTART;VALUE=DATE:20260428
DTEND;VALUE=DATE:20260429
DTSTAMP:20260424T142337
CREATED:20250811T130848Z
LAST-MODIFIED:20260204T100137Z
UID:10000947-1777334400-1777420799@bowling-islands.de
SUMMARY:Bowling am Dienstag
DESCRIPTION:Wir haben geöffnet:\n14:00 – 22:00 Uhr
URL:https://bowling-islands.de/event/bowling-am-dienstag-2/2026-04-28/
CATEGORIES:Wochenprogramm
ATTACH;FMTTYPE=image/jpeg:https://bowling-islands.de/wp-content/uploads/2025/06/dienstag.jpg
END:VEVENT
BEGIN:VEVENT
DTSTART;VALUE=DATE:20260429
DTEND;VALUE=DATE:20260430
DTSTAMP:20260424T142337
CREATED:20250811T131507Z
LAST-MODIFIED:20260204T100118Z
UID:10001212-1777420800-1777507199@bowling-islands.de
SUMMARY:Burger-Tag
DESCRIPTION:Mittwoch ist bei uns Burger-Tag!Da gibt es unsere „großen Drei“ (Pinoy Burger\, Cheese & Chili Burger\, Cheese & Bacon Burger) 2 Euro günstiger und beim „Exotischen“\, „Beflügelnden“ und „Fleischlosen“ spart man 1\,50 Euro. \n_______________________ \nPinoy Burger mit Pommes € 11\,20 \nCheese & Chili Burger mit Pommes € 11\,60 \nCheese & Bacon Burger mit Pommes € 11\,80 \nBeef & Pineapple Burger mit Pommes € 9\,90 \nChicken Burger mit Pommes € 9\,70 \nVeggie & Pineapple Burger mit Pommes € 9\,70 \n_______________________ \nUnsere Burger sind mit reinem Rinderhack belegt (außer Chicken Burger und Veggie Burger) und mit feinen\, hausgemachten Saucen zubereitet.
URL:https://bowling-islands.de/event/burger-tag-2-2/2026-04-29/
CATEGORIES:Wochenprogramm
ATTACH;FMTTYPE=image/jpeg:https://bowling-islands.de/wp-content/uploads/2025/06/burger.jpg
END:VEVENT
BEGIN:VEVENT
DTSTART;TZID=Europe/Berlin:20260430T080000
DTEND;TZID=Europe/Berlin:20260430T170000
DTSTAMP:20260424T142337
CREATED:20250811T132544Z
LAST-MODIFIED:20260204T100058Z
UID:10002271-1777536000-1777568400@bowling-islands.de
SUMMARY:Cocktail-Tag / Gute Laune Donnerstag
DESCRIPTION:Donnerstag ist Gute Laune Tag!\nAm Donnerstag\, wenn die Woche schon fast geschafft ist\, gibt es bei uns die Bowling Islands Variante der AfterWork Party. Von der Arbeit geht es direkt rein ins Vergnügen. \nJeder Cocktail kostet nur 7\,- € (alkoholfreie Cocktails nur 6\,- €)! \nBowlen kann man ganz normal oder man stellt sich der Herausforderung eines Funky-Bowlings oder Helikopter-Spiels. \nFür Bombenstimmung ist garantiert! Feierabend kann so schön sein :-)
URL:https://bowling-islands.de/event/cocktail-tag-gute-laune-donnerstag/2026-04-30/
CATEGORIES:Wochenprogramm
ATTACH;FMTTYPE=image/jpeg:https://bowling-islands.de/wp-content/uploads/2025/06/drinks.jpg
END:VEVENT
BEGIN:VEVENT
DTSTART;TZID=Europe/Berlin:20260501T080000
DTEND;TZID=Europe/Berlin:20260501T170000
DTSTAMP:20260424T142337
CREATED:20250913T105533Z
LAST-MODIFIED:20260227T100348Z
UID:10002531-1777622400-1777654800@bowling-islands.de
SUMMARY:Bowling Islands Night
DESCRIPTION:Von 20 bis 24 Uhr ist Bowling Islands Night bei uns im Center. \nGenießt euren Bowling-Abend mit toller Musik und Unterhaltung. \nBei unseren kleinen Frage- und Bowling-Spielen könnt ihr mit etwas Glück die eine oder andere Shot-Runde gewinnen 🤩 \nBitte unbedingt Bahn reservieren!
URL:https://bowling-islands.de/event/bowling-islands-night-2/2026-05-01/
CATEGORIES:Wochenprogramm
ATTACH;FMTTYPE=image/jpeg:https://bowling-islands.de/wp-content/uploads/2025/06/night.jpg
END:VEVENT
BEGIN:VEVENT
DTSTART;VALUE=DATE:20260502
DTEND;VALUE=DATE:20260503
DTSTAMP:20260424T142337
CREATED:20250617T125243Z
LAST-MODIFIED:20260204T100241Z
UID:10001744-1777680000-1777766399@bowling-islands.de
SUMMARY:Bowling Islands Night
DESCRIPTION:Bowling Islands Night!Von 20 bis 24 Uhr ist Bowling Islands Night bei uns im Center. \nGenießt euren Bowling-Abend mit toller Musik und Unterhaltung. \nBei unseren kleinen Frage- und Bowling-Spielen könnt ihr mit etwas Glück die eine oder andere Shot-Runde gewinnen 🤩 \nBitte unbedingt Bahn reservieren!
URL:https://bowling-islands.de/event/bowling-islands-night/2026-05-02/
CATEGORIES:Wochenprogramm
ATTACH;FMTTYPE=image/jpeg:https://bowling-islands.de/wp-content/uploads/2025/06/night.jpg
END:VEVENT
BEGIN:VEVENT
DTSTART;VALUE=DATE:20260503
DTEND;VALUE=DATE:20260504
DTSTAMP:20260424T142337
CREATED:20250811T131627Z
LAST-MODIFIED:20260204T100221Z
UID:10001478-1777766400-1777852799@bowling-islands.de
SUMMARY:Sonntagsfrühstück
DESCRIPTION:SONNTAGSFRÜHSTÜCK VON 10 BIS 13 UHRJeden Sonntag können Sie bei Bowling Islands gemütlich frühstücken und natürlich auch bowlen.\nBitte teilen Sie uns bei Ihrer Buchung mit\, dass Sie frühstücken wollen. Danke! \nUnsere Frühstückskarte finden Sie auf S.11 unserer Speisen- und Getränkekarte. \nBowling Islands FrühstückKleine Wurst- und Käseauswahl\, Frischkäse\, Marmelade\, Honig\, Butter\, ein weich\ngekochtes Ei (Freilandhaltung)\, Brotkorb und ein Croissant\, Joghurt mit frischen Früchten\,\n0\,2 l Orangensaft* \nSweetyZwei Croissants mit Marmelade\, Honig und Nutella\, ein Muffin mit Schokostückchen\,\nJoghurt mit frischen Früchten\,\n0\,2 l Orangensaft* \nStrikeRührei mit knusprig gebratenem Bacon 2\,4\, Frischkäse\, Tomatenscheiben\, Butter\,\nBrotkorb\,\n0\,2 l Orangensaft* \nMakiUnser Kinderfrühstück ganz nach deinem Geschmack! \nWähle Deine Lieblingsvariante:\n1) Wurst und Käse\n2) Honig\, Nutella\, Marmelade \nDazu gibt es einen Brotkorb\, einen Muffin und 0\,2 l Orangensaft*
URL:https://bowling-islands.de/event/sonntagsfruehstueck-2/2026-05-03/
CATEGORIES:Wochenprogramm
ATTACH;FMTTYPE=image/jpeg:https://bowling-islands.de/wp-content/uploads/2025/07/fruehstueck.jpg
END:VEVENT
BEGIN:VEVENT
DTSTART;VALUE=DATE:20260504
DTEND;VALUE=DATE:20260505
DTSTAMP:20260424T142337
CREATED:20250811T130346Z
LAST-MODIFIED:20260204T100159Z
UID:10000688-1777852800-1777939199@bowling-islands.de
SUMMARY:Ruhetag
DESCRIPTION:Wir haben geschlossen!
URL:https://bowling-islands.de/event/ruhetag-2/2026-05-04/
CATEGORIES:Wochenprogramm
ATTACH;FMTTYPE=image/jpeg:https://bowling-islands.de/wp-content/uploads/2025/07/Fridolin.jpg
END:VEVENT
BEGIN:VEVENT
DTSTART;VALUE=DATE:20260505
DTEND;VALUE=DATE:20260506
DTSTAMP:20260424T142337
CREATED:20250811T130848Z
LAST-MODIFIED:20260204T100137Z
UID:10000948-1777939200-1778025599@bowling-islands.de
SUMMARY:Bowling am Dienstag
DESCRIPTION:Wir haben geöffnet:\n14:00 – 22:00 Uhr
URL:https://bowling-islands.de/event/bowling-am-dienstag-2/2026-05-05/
CATEGORIES:Wochenprogramm
ATTACH;FMTTYPE=image/jpeg:https://bowling-islands.de/wp-content/uploads/2025/06/dienstag.jpg
END:VEVENT
BEGIN:VEVENT
DTSTART;VALUE=DATE:20260506
DTEND;VALUE=DATE:20260507
DTSTAMP:20260424T142337
CREATED:20250811T131507Z
LAST-MODIFIED:20260204T100118Z
UID:10001213-1778025600-1778111999@bowling-islands.de
SUMMARY:Burger-Tag
DESCRIPTION:Mittwoch ist bei uns Burger-Tag!Da gibt es unsere „großen Drei“ (Pinoy Burger\, Cheese & Chili Burger\, Cheese & Bacon Burger) 2 Euro günstiger und beim „Exotischen“\, „Beflügelnden“ und „Fleischlosen“ spart man 1\,50 Euro. \n_______________________ \nPinoy Burger mit Pommes € 11\,20 \nCheese & Chili Burger mit Pommes € 11\,60 \nCheese & Bacon Burger mit Pommes € 11\,80 \nBeef & Pineapple Burger mit Pommes € 9\,90 \nChicken Burger mit Pommes € 9\,70 \nVeggie & Pineapple Burger mit Pommes € 9\,70 \n_______________________ \nUnsere Burger sind mit reinem Rinderhack belegt (außer Chicken Burger und Veggie Burger) und mit feinen\, hausgemachten Saucen zubereitet.
URL:https://bowling-islands.de/event/burger-tag-2-2/2026-05-06/
CATEGORIES:Wochenprogramm
ATTACH;FMTTYPE=image/jpeg:https://bowling-islands.de/wp-content/uploads/2025/06/burger.jpg
END:VEVENT
BEGIN:VEVENT
DTSTART;TZID=Europe/Berlin:20260507T080000
DTEND;TZID=Europe/Berlin:20260507T170000
DTSTAMP:20260424T142337
CREATED:20250811T132544Z
LAST-MODIFIED:20260204T100058Z
UID:10002272-1778140800-1778173200@bowling-islands.de
SUMMARY:Cocktail-Tag / Gute Laune Donnerstag
DESCRIPTION:Donnerstag ist Gute Laune Tag!\nAm Donnerstag\, wenn die Woche schon fast geschafft ist\, gibt es bei uns die Bowling Islands Variante der AfterWork Party. Von der Arbeit geht es direkt rein ins Vergnügen. \nJeder Cocktail kostet nur 7\,- € (alkoholfreie Cocktails nur 6\,- €)! \nBowlen kann man ganz normal oder man stellt sich der Herausforderung eines Funky-Bowlings oder Helikopter-Spiels. \nFür Bombenstimmung ist garantiert! Feierabend kann so schön sein :-)
URL:https://bowling-islands.de/event/cocktail-tag-gute-laune-donnerstag/2026-05-07/
CATEGORIES:Wochenprogramm
ATTACH;FMTTYPE=image/jpeg:https://bowling-islands.de/wp-content/uploads/2025/06/drinks.jpg
END:VEVENT
BEGIN:VEVENT
DTSTART;TZID=Europe/Berlin:20260508T080000
DTEND;TZID=Europe/Berlin:20260508T170000
DTSTAMP:20260424T142337
CREATED:20250913T105533Z
LAST-MODIFIED:20260227T100348Z
UID:10002532-1778227200-1778259600@bowling-islands.de
SUMMARY:Bowling Islands Night
DESCRIPTION:Von 20 bis 24 Uhr ist Bowling Islands Night bei uns im Center. \nGenießt euren Bowling-Abend mit toller Musik und Unterhaltung. \nBei unseren kleinen Frage- und Bowling-Spielen könnt ihr mit etwas Glück die eine oder andere Shot-Runde gewinnen 🤩 \nBitte unbedingt Bahn reservieren!
URL:https://bowling-islands.de/event/bowling-islands-night-2/2026-05-08/
CATEGORIES:Wochenprogramm
ATTACH;FMTTYPE=image/jpeg:https://bowling-islands.de/wp-content/uploads/2025/06/night.jpg
END:VEVENT
BEGIN:VEVENT
DTSTART;VALUE=DATE:20260509
DTEND;VALUE=DATE:20260510
DTSTAMP:20260424T142337
CREATED:20250617T125243Z
LAST-MODIFIED:20260204T100241Z
UID:10001745-1778284800-1778371199@bowling-islands.de
SUMMARY:Bowling Islands Night
DESCRIPTION:Bowling Islands Night!Von 20 bis 24 Uhr ist Bowling Islands Night bei uns im Center. \nGenießt euren Bowling-Abend mit toller Musik und Unterhaltung. \nBei unseren kleinen Frage- und Bowling-Spielen könnt ihr mit etwas Glück die eine oder andere Shot-Runde gewinnen 🤩 \nBitte unbedingt Bahn reservieren!
URL:https://bowling-islands.de/event/bowling-islands-night/2026-05-09/
CATEGORIES:Wochenprogramm
ATTACH;FMTTYPE=image/jpeg:https://bowling-islands.de/wp-content/uploads/2025/06/night.jpg
END:VEVENT
BEGIN:VEVENT
DTSTART;VALUE=DATE:20260510
DTEND;VALUE=DATE:20260511
DTSTAMP:20260424T142337
CREATED:20250811T131627Z
LAST-MODIFIED:20260204T100221Z
UID:10001479-1778371200-1778457599@bowling-islands.de
SUMMARY:Sonntagsfrühstück
DESCRIPTION:SONNTAGSFRÜHSTÜCK VON 10 BIS 13 UHRJeden Sonntag können Sie bei Bowling Islands gemütlich frühstücken und natürlich auch bowlen.\nBitte teilen Sie uns bei Ihrer Buchung mit\, dass Sie frühstücken wollen. Danke! \nUnsere Frühstückskarte finden Sie auf S.11 unserer Speisen- und Getränkekarte. \nBowling Islands FrühstückKleine Wurst- und Käseauswahl\, Frischkäse\, Marmelade\, Honig\, Butter\, ein weich\ngekochtes Ei (Freilandhaltung)\, Brotkorb und ein Croissant\, Joghurt mit frischen Früchten\,\n0\,2 l Orangensaft* \nSweetyZwei Croissants mit Marmelade\, Honig und Nutella\, ein Muffin mit Schokostückchen\,\nJoghurt mit frischen Früchten\,\n0\,2 l Orangensaft* \nStrikeRührei mit knusprig gebratenem Bacon 2\,4\, Frischkäse\, Tomatenscheiben\, Butter\,\nBrotkorb\,\n0\,2 l Orangensaft* \nMakiUnser Kinderfrühstück ganz nach deinem Geschmack! \nWähle Deine Lieblingsvariante:\n1) Wurst und Käse\n2) Honig\, Nutella\, Marmelade \nDazu gibt es einen Brotkorb\, einen Muffin und 0\,2 l Orangensaft*
URL:https://bowling-islands.de/event/sonntagsfruehstueck-2/2026-05-10/
CATEGORIES:Wochenprogramm
ATTACH;FMTTYPE=image/jpeg:https://bowling-islands.de/wp-content/uploads/2025/07/fruehstueck.jpg
END:VEVENT
BEGIN:VEVENT
DTSTART;VALUE=DATE:20260511
DTEND;VALUE=DATE:20260512
DTSTAMP:20260424T142337
CREATED:20250811T130346Z
LAST-MODIFIED:20260204T100159Z
UID:10000689-1778457600-1778543999@bowling-islands.de
SUMMARY:Ruhetag
DESCRIPTION:Wir haben geschlossen!
URL:https://bowling-islands.de/event/ruhetag-2/2026-05-11/
CATEGORIES:Wochenprogramm
ATTACH;FMTTYPE=image/jpeg:https://bowling-islands.de/wp-content/uploads/2025/07/Fridolin.jpg
END:VEVENT
BEGIN:VEVENT
DTSTART;VALUE=DATE:20260512
DTEND;VALUE=DATE:20260513
DTSTAMP:20260424T142337
CREATED:20250811T130848Z
LAST-MODIFIED:20260204T100137Z
UID:10000949-1778544000-1778630399@bowling-islands.de
SUMMARY:Bowling am Dienstag
DESCRIPTION:Wir haben geöffnet:\n14:00 – 22:00 Uhr
URL:https://bowling-islands.de/event/bowling-am-dienstag-2/2026-05-12/
CATEGORIES:Wochenprogramm
ATTACH;FMTTYPE=image/jpeg:https://bowling-islands.de/wp-content/uploads/2025/06/dienstag.jpg
END:VEVENT
BEGIN:VEVENT
DTSTART;VALUE=DATE:20260513
DTEND;VALUE=DATE:20260514
DTSTAMP:20260424T142337
CREATED:20250811T131507Z
LAST-MODIFIED:20260204T100118Z
UID:10001214-1778630400-1778716799@bowling-islands.de
SUMMARY:Burger-Tag
DESCRIPTION:Mittwoch ist bei uns Burger-Tag!Da gibt es unsere „großen Drei“ (Pinoy Burger\, Cheese & Chili Burger\, Cheese & Bacon Burger) 2 Euro günstiger und beim „Exotischen“\, „Beflügelnden“ und „Fleischlosen“ spart man 1\,50 Euro. \n_______________________ \nPinoy Burger mit Pommes € 11\,20 \nCheese & Chili Burger mit Pommes € 11\,60 \nCheese & Bacon Burger mit Pommes € 11\,80 \nBeef & Pineapple Burger mit Pommes € 9\,90 \nChicken Burger mit Pommes € 9\,70 \nVeggie & Pineapple Burger mit Pommes € 9\,70 \n_______________________ \nUnsere Burger sind mit reinem Rinderhack belegt (außer Chicken Burger und Veggie Burger) und mit feinen\, hausgemachten Saucen zubereitet.
URL:https://bowling-islands.de/event/burger-tag-2-2/2026-05-13/
CATEGORIES:Wochenprogramm
ATTACH;FMTTYPE=image/jpeg:https://bowling-islands.de/wp-content/uploads/2025/06/burger.jpg
END:VEVENT
BEGIN:VEVENT
DTSTART;TZID=Europe/Berlin:20260514T080000
DTEND;TZID=Europe/Berlin:20260514T170000
DTSTAMP:20260424T142337
CREATED:20250811T132544Z
LAST-MODIFIED:20260204T100058Z
UID:10002273-1778745600-1778778000@bowling-islands.de
SUMMARY:Cocktail-Tag / Gute Laune Donnerstag
DESCRIPTION:Donnerstag ist Gute Laune Tag!\nAm Donnerstag\, wenn die Woche schon fast geschafft ist\, gibt es bei uns die Bowling Islands Variante der AfterWork Party. Von der Arbeit geht es direkt rein ins Vergnügen. \nJeder Cocktail kostet nur 7\,- € (alkoholfreie Cocktails nur 6\,- €)! \nBowlen kann man ganz normal oder man stellt sich der Herausforderung eines Funky-Bowlings oder Helikopter-Spiels. \nFür Bombenstimmung ist garantiert! Feierabend kann so schön sein :-)
URL:https://bowling-islands.de/event/cocktail-tag-gute-laune-donnerstag/2026-05-14/
CATEGORIES:Wochenprogramm
ATTACH;FMTTYPE=image/jpeg:https://bowling-islands.de/wp-content/uploads/2025/06/drinks.jpg
END:VEVENT
BEGIN:VEVENT
DTSTART;TZID=Europe/Berlin:20260515T080000
DTEND;TZID=Europe/Berlin:20260515T170000
DTSTAMP:20260424T142337
CREATED:20250913T105533Z
LAST-MODIFIED:20260227T100348Z
UID:10002533-1778832000-1778864400@bowling-islands.de
SUMMARY:Bowling Islands Night
DESCRIPTION:Von 20 bis 24 Uhr ist Bowling Islands Night bei uns im Center. \nGenießt euren Bowling-Abend mit toller Musik und Unterhaltung. \nBei unseren kleinen Frage- und Bowling-Spielen könnt ihr mit etwas Glück die eine oder andere Shot-Runde gewinnen 🤩 \nBitte unbedingt Bahn reservieren!
URL:https://bowling-islands.de/event/bowling-islands-night-2/2026-05-15/
CATEGORIES:Wochenprogramm
ATTACH;FMTTYPE=image/jpeg:https://bowling-islands.de/wp-content/uploads/2025/06/night.jpg
END:VEVENT
BEGIN:VEVENT
DTSTART;VALUE=DATE:20260516
DTEND;VALUE=DATE:20260517
DTSTAMP:20260424T142337
CREATED:20250617T125243Z
LAST-MODIFIED:20260204T100241Z
UID:10001746-1778889600-1778975999@bowling-islands.de
SUMMARY:Bowling Islands Night
DESCRIPTION:Bowling Islands Night!Von 20 bis 24 Uhr ist Bowling Islands Night bei uns im Center. \nGenießt euren Bowling-Abend mit toller Musik und Unterhaltung. \nBei unseren kleinen Frage- und Bowling-Spielen könnt ihr mit etwas Glück die eine oder andere Shot-Runde gewinnen 🤩 \nBitte unbedingt Bahn reservieren!
URL:https://bowling-islands.de/event/bowling-islands-night/2026-05-16/
CATEGORIES:Wochenprogramm
ATTACH;FMTTYPE=image/jpeg:https://bowling-islands.de/wp-content/uploads/2025/06/night.jpg
END:VEVENT
BEGIN:VEVENT
DTSTART;VALUE=DATE:20260517
DTEND;VALUE=DATE:20260518
DTSTAMP:20260424T142337
CREATED:20250811T131627Z
LAST-MODIFIED:20260204T100221Z
UID:10001480-1778976000-1779062399@bowling-islands.de
SUMMARY:Sonntagsfrühstück
DESCRIPTION:SONNTAGSFRÜHSTÜCK VON 10 BIS 13 UHRJeden Sonntag können Sie bei Bowling Islands gemütlich frühstücken und natürlich auch bowlen.\nBitte teilen Sie uns bei Ihrer Buchung mit\, dass Sie frühstücken wollen. Danke! \nUnsere Frühstückskarte finden Sie auf S.11 unserer Speisen- und Getränkekarte. \nBowling Islands FrühstückKleine Wurst- und Käseauswahl\, Frischkäse\, Marmelade\, Honig\, Butter\, ein weich\ngekochtes Ei (Freilandhaltung)\, Brotkorb und ein Croissant\, Joghurt mit frischen Früchten\,\n0\,2 l Orangensaft* \nSweetyZwei Croissants mit Marmelade\, Honig und Nutella\, ein Muffin mit Schokostückchen\,\nJoghurt mit frischen Früchten\,\n0\,2 l Orangensaft* \nStrikeRührei mit knusprig gebratenem Bacon 2\,4\, Frischkäse\, Tomatenscheiben\, Butter\,\nBrotkorb\,\n0\,2 l Orangensaft* \nMakiUnser Kinderfrühstück ganz nach deinem Geschmack! \nWähle Deine Lieblingsvariante:\n1) Wurst und Käse\n2) Honig\, Nutella\, Marmelade \nDazu gibt es einen Brotkorb\, einen Muffin und 0\,2 l Orangensaft*
URL:https://bowling-islands.de/event/sonntagsfruehstueck-2/2026-05-17/
CATEGORIES:Wochenprogramm
ATTACH;FMTTYPE=image/jpeg:https://bowling-islands.de/wp-content/uploads/2025/07/fruehstueck.jpg
END:VEVENT
BEGIN:VEVENT
DTSTART;VALUE=DATE:20260518
DTEND;VALUE=DATE:20260519
DTSTAMP:20260424T142337
CREATED:20250811T130346Z
LAST-MODIFIED:20260204T100159Z
UID:10000690-1779062400-1779148799@bowling-islands.de
SUMMARY:Ruhetag
DESCRIPTION:Wir haben geschlossen!
URL:https://bowling-islands.de/event/ruhetag-2/2026-05-18/
CATEGORIES:Wochenprogramm
ATTACH;FMTTYPE=image/jpeg:https://bowling-islands.de/wp-content/uploads/2025/07/Fridolin.jpg
END:VEVENT
BEGIN:VEVENT
DTSTART;VALUE=DATE:20260519
DTEND;VALUE=DATE:20260520
DTSTAMP:20260424T142337
CREATED:20250811T130848Z
LAST-MODIFIED:20260204T100137Z
UID:10000950-1779148800-1779235199@bowling-islands.de
SUMMARY:Bowling am Dienstag
DESCRIPTION:Wir haben geöffnet:\n14:00 – 22:00 Uhr
URL:https://bowling-islands.de/event/bowling-am-dienstag-2/2026-05-19/
CATEGORIES:Wochenprogramm
ATTACH;FMTTYPE=image/jpeg:https://bowling-islands.de/wp-content/uploads/2025/06/dienstag.jpg
END:VEVENT
BEGIN:VEVENT
DTSTART;VALUE=DATE:20260520
DTEND;VALUE=DATE:20260521
DTSTAMP:20260424T142337
CREATED:20250811T131507Z
LAST-MODIFIED:20260204T100118Z
UID:10001215-1779235200-1779321599@bowling-islands.de
SUMMARY:Burger-Tag
DESCRIPTION:Mittwoch ist bei uns Burger-Tag!Da gibt es unsere „großen Drei“ (Pinoy Burger\, Cheese & Chili Burger\, Cheese & Bacon Burger) 2 Euro günstiger und beim „Exotischen“\, „Beflügelnden“ und „Fleischlosen“ spart man 1\,50 Euro. \n_______________________ \nPinoy Burger mit Pommes € 11\,20 \nCheese & Chili Burger mit Pommes € 11\,60 \nCheese & Bacon Burger mit Pommes € 11\,80 \nBeef & Pineapple Burger mit Pommes € 9\,90 \nChicken Burger mit Pommes € 9\,70 \nVeggie & Pineapple Burger mit Pommes € 9\,70 \n_______________________ \nUnsere Burger sind mit reinem Rinderhack belegt (außer Chicken Burger und Veggie Burger) und mit feinen\, hausgemachten Saucen zubereitet.
URL:https://bowling-islands.de/event/burger-tag-2-2/2026-05-20/
CATEGORIES:Wochenprogramm
ATTACH;FMTTYPE=image/jpeg:https://bowling-islands.de/wp-content/uploads/2025/06/burger.jpg
END:VEVENT
BEGIN:VEVENT
DTSTART;TZID=Europe/Berlin:20260521T080000
DTEND;TZID=Europe/Berlin:20260521T170000
DTSTAMP:20260424T142337
CREATED:20250811T132544Z
LAST-MODIFIED:20260204T100058Z
UID:10002274-1779350400-1779382800@bowling-islands.de
SUMMARY:Cocktail-Tag / Gute Laune Donnerstag
DESCRIPTION:Donnerstag ist Gute Laune Tag!\nAm Donnerstag\, wenn die Woche schon fast geschafft ist\, gibt es bei uns die Bowling Islands Variante der AfterWork Party. Von der Arbeit geht es direkt rein ins Vergnügen. \nJeder Cocktail kostet nur 7\,- € (alkoholfreie Cocktails nur 6\,- €)! \nBowlen kann man ganz normal oder man stellt sich der Herausforderung eines Funky-Bowlings oder Helikopter-Spiels. \nFür Bombenstimmung ist garantiert! Feierabend kann so schön sein :-)
URL:https://bowling-islands.de/event/cocktail-tag-gute-laune-donnerstag/2026-05-21/
CATEGORIES:Wochenprogramm
ATTACH;FMTTYPE=image/jpeg:https://bowling-islands.de/wp-content/uploads/2025/06/drinks.jpg
END:VEVENT
BEGIN:VEVENT
DTSTART;TZID=Europe/Berlin:20260522T080000
DTEND;TZID=Europe/Berlin:20260522T170000
DTSTAMP:20260424T142337
CREATED:20250913T105533Z
LAST-MODIFIED:20260227T100348Z
UID:10002534-1779436800-1779469200@bowling-islands.de
SUMMARY:Bowling Islands Night
DESCRIPTION:Von 20 bis 24 Uhr ist Bowling Islands Night bei uns im Center. \nGenießt euren Bowling-Abend mit toller Musik und Unterhaltung. \nBei unseren kleinen Frage- und Bowling-Spielen könnt ihr mit etwas Glück die eine oder andere Shot-Runde gewinnen 🤩 \nBitte unbedingt Bahn reservieren!
URL:https://bowling-islands.de/event/bowling-islands-night-2/2026-05-22/
CATEGORIES:Wochenprogramm
ATTACH;FMTTYPE=image/jpeg:https://bowling-islands.de/wp-content/uploads/2025/06/night.jpg
END:VEVENT
BEGIN:VEVENT
DTSTART;VALUE=DATE:20260523
DTEND;VALUE=DATE:20260524
DTSTAMP:20260424T142337
CREATED:20250617T125243Z
LAST-MODIFIED:20260204T100241Z
UID:10001747-1779494400-1779580799@bowling-islands.de
SUMMARY:Bowling Islands Night
DESCRIPTION:Bowling Islands Night!Von 20 bis 24 Uhr ist Bowling Islands Night bei uns im Center. \nGenießt euren Bowling-Abend mit toller Musik und Unterhaltung. \nBei unseren kleinen Frage- und Bowling-Spielen könnt ihr mit etwas Glück die eine oder andere Shot-Runde gewinnen 🤩 \nBitte unbedingt Bahn reservieren!
URL:https://bowling-islands.de/event/bowling-islands-night/2026-05-23/
CATEGORIES:Wochenprogramm
ATTACH;FMTTYPE=image/jpeg:https://bowling-islands.de/wp-content/uploads/2025/06/night.jpg
END:VEVENT
END:VCALENDAR